BEGIN:VCALENDAR
VERSION:2.0
PRODID:-//https://cubpack548.com///NONSGML kigkonsult.se iCalcreator 2.10.15//
METHOD:PUBLISH
BEGIN:VEVENT
UID:20260422T090041UTC-3470XjatFr@https://cubpack548.com/
DTSTAMP:20260422T090041Z
DESCRIPTION: https://cubpack548.com/calendar/event-list/event/336-earth-day
 .html
DTSTART;VALUE=DATE:20260428
LOCATION:United States (United States)
SUMMARY:Earth Day
URL:https://cubpack548.com/calendar/event-list/event/336-earth-day.html
END:VEVENT
END:VCALENDAR
