BEGIN:VCALENDAR
VERSION:2.0
PRODID:-//https://cubpack548.com///NONSGML kigkonsult.se iCalcreator 2.10.15//
METHOD:PUBLISH
BEGIN:VEVENT
UID:20260422T085925UTC-8029ZVEvU5@https://cubpack548.com/
DTSTAMP:20260422T085925Z
DESCRIPTION: https://cubpack548.com/calendar/event-list/event/321-pack-meet
 ing.html
DTSTART:20260429T003000Z
DTEND:20260429T013000Z
LOCATION:Our Saviour's Corner of Hope (1975 S Garrison St\, Lakewood\, CO 8
 0227)
SUMMARY:Pack Meeting
URL:https://cubpack548.com/calendar/event-list/event/321-pack-meeting.html
END:VEVENT
END:VCALENDAR
