BEGIN:VCALENDAR
VERSION:2.0
PRODID:-//https://cubpack548.com///NONSGML kigkonsult.se iCalcreator 2.10.15//
METHOD:PUBLISH
BEGIN:VEVENT
UID:20260422T013204UTC-4354skP5IX@https://cubpack548.com/
DTSTAMP:20260422T013204Z
DESCRIPTION: https://cubpack548.com/calendar-list/event/5-wolf-den-meeting.
 html
DTSTART:20240306T010000Z
DTEND:20240306T020000Z
LOCATION:Our Saviour's Corner of Hope (1975 S Garrison St\, Lakewood\, CO 8
 0227)
SUMMARY:Wolf Den Meeting
URL:https://cubpack548.com/calendar-list/event/5-wolf-den-meeting.html
END:VEVENT
END:VCALENDAR
